BEGIN:VCALENDAR
PRODID:-//Dexterity Types//Event//EN
VERSION:1.0
BEGIN:VEVENT
DTSTART:20230507T020000Z
DTEND:20230507T030000Z
DCREATED:20230306T200736Z
UID:ATEvent-bf0273623a654463b908586720b3c70a
SEQUENCE:0
LAST-MODIFIED:20240509T063634Z
SUMMARY:"The Power of Trees": An Evening with Peter Wohlleben
PRIORITY:3
TRANSP:0
END:VEVENT
END:VCALENDAR
