BEGIN:VCALENDAR
VERSION:2.0
PRODID:-//Plone.org//NONSGML plone.app.event//EN
X-WR-TIMEZONE:America/Los_Angeles
BEGIN:VEVENT
SUMMARY:"The Power of Trees": An Evening with Peter Wohlleben
DTSTART;TZID=America/Los_Angeles;VALUE=DATE-TIME:20230506T190000
DTEND;TZID=America/Los_Angeles;VALUE=DATE-TIME:20230506T200000
DTSTAMP;VALUE=DATE-TIME:20260422T120352Z
UID:bf0273623a654463b908586720b3c70a@localhost:6081
CONTACT:https://www.villagebooks.com/event/evening-peter-wohlleben-and-tho
 r-hanson-bellingham-high-school-power-trees
CREATED;VALUE=DATE-TIME:20230306T200736Z
LAST-MODIFIED;VALUE=DATE-TIME:20240509T063634Z
URL:https://ncascades.org/the-power-of-trees-an-evening-with-peter-wohlleb
 en
END:VEVENT
BEGIN:VTIMEZONE
TZID:America/Los_Angeles
X-LIC-LOCATION:America/Los_Angeles
BEGIN:DAYLIGHT
DTSTART;VALUE=DATE-TIME:20230312T030000
TZNAME:PDT
TZOFFSETFROM:-0800
TZOFFSETTO:-0700
END:DAYLIGHT
END:VTIMEZONE
END:VCALENDAR
