BEGIN:VCALENDAR
PRODID:-//Dexterity Types//Event//EN
VERSION:1.0
BEGIN:VEVENT
DTSTART:20260331T020000Z
DTEND:20260331T030000Z
DCREATED:20260126T195706Z
UID:ATEvent-ef96313aa8634561adc42af31628f732
SEQUENCE:0
LAST-MODIFIED:20260126T195743Z
SUMMARY:"When The Forest Breathes" with Suzanne Simard
LOCATION:Third Place Books\, Lake Forest Park
PRIORITY:3
TRANSP:0
END:VEVENT
END:VCALENDAR
