BEGIN:VCALENDAR
VERSION:2.0
PRODID:-//Plone.org//NONSGML plone.app.event//EN
X-WR-TIMEZONE:America/Los_Angeles
BEGIN:VEVENT
SUMMARY:"When The Forest Breathes" with Suzanne Simard
DTSTART;TZID=America/Los_Angeles;VALUE=DATE-TIME:20260330T190000
DTEND;TZID=America/Los_Angeles;VALUE=DATE-TIME:20260330T200000
DTSTAMP;VALUE=DATE-TIME:20260419T064638Z
UID:ef96313aa8634561adc42af31628f732@localhost:6081
CONTACT:https://www.thirdplacebooks.com/event/suzanne-simard
CREATED;VALUE=DATE-TIME:20260126T195706Z
LAST-MODIFIED;VALUE=DATE-TIME:20260126T195743Z
LOCATION:Third Place Books\, Lake Forest Park
URL:https://ncascades.org/signup/when-the-forest-breathes-with-suzanne-sim
 ard
END:VEVENT
BEGIN:VTIMEZONE
TZID:America/Los_Angeles
X-LIC-LOCATION:America/Los_Angeles
BEGIN:DAYLIGHT
DTSTART;VALUE=DATE-TIME:20260308T030000
TZNAME:PDT
TZOFFSETFROM:-0800
TZOFFSETTO:-0700
END:DAYLIGHT
END:VTIMEZONE
END:VCALENDAR
