BEGIN:VCALENDAR
PRODID:-//Dexterity Types//Event//EN
VERSION:1.0
BEGIN:VEVENT
DTSTART:20260408T020000Z
DTEND:20260408T030000Z
DCREATED:20260312T020909Z
UID:ATEvent-0ecb56cec07d4488b545fbc3fd9b432b
SEQUENCE:0
LAST-MODIFIED:20260312T021118Z
SUMMARY:"The Bird with Flaming Red Feet" with Maria Mudd Ruth
LOCATION:Third Place Books\, Lake Forest Park
PRIORITY:3
TRANSP:0
END:VEVENT
END:VCALENDAR
