BEGIN:VCALENDAR
VERSION:2.0
PRODID:-//Plone.org//NONSGML plone.app.event//EN
X-WR-TIMEZONE:America/Los_Angeles
BEGIN:VEVENT
SUMMARY:"The Bird with Flaming Red Feet" with Maria Mudd Ruth
DTSTART;TZID=America/Los_Angeles;VALUE=DATE-TIME:20260407T190000
DTEND;TZID=America/Los_Angeles;VALUE=DATE-TIME:20260407T200000
DTSTAMP;VALUE=DATE-TIME:20260422T014005Z
UID:0ecb56cec07d4488b545fbc3fd9b432b@localhost:6081
CONTACT:https://www.thirdplacebooks.com/event/maria-mudd-ruth
CREATED;VALUE=DATE-TIME:20260312T020909Z
LAST-MODIFIED;VALUE=DATE-TIME:20260312T021118Z
LOCATION:Third Place Books\, Lake Forest Park
URL:https://ncascades.org/signup/the-bird-with-flaming-red-feet-with-maria
 -mudd-ruth
END:VEVENT
BEGIN:VTIMEZONE
TZID:America/Los_Angeles
X-LIC-LOCATION:America/Los_Angeles
BEGIN:DAYLIGHT
DTSTART;VALUE=DATE-TIME:20260308T030000
TZNAME:PDT
TZOFFSETFROM:-0800
TZOFFSETTO:-0700
END:DAYLIGHT
END:VTIMEZONE
END:VCALENDAR
