BEGIN:VCALENDAR
PRODID:-//Dexterity Types//Event//EN
VERSION:1.0
BEGIN:VEVENT
DTSTART:20260513T020000Z
DTEND:20260513T030000Z
DCREATED:20260402T154608Z
UID:ATEvent-a270f944a28a483893be7cbaf0e73904
SEQUENCE:0
LAST-MODIFIED:20260402T155524Z
SUMMARY:Spring Hiking Double Feature with Tami Asars and Craig Romano
LOCATION:Third Place Books\, Lake Forest Park
PRIORITY:3
TRANSP:0
END:VEVENT
END:VCALENDAR
