BEGIN:VCALENDAR
VERSION:2.0
PRODID:-//Plone.org//NONSGML plone.app.event//EN
X-WR-TIMEZONE:America/Los_Angeles
BEGIN:VEVENT
SUMMARY:Spring Hiking Double Feature with Tami Asars and Craig Romano
DTSTART;TZID=America/Los_Angeles;VALUE=DATE-TIME:20260512T190000
DTEND;TZID=America/Los_Angeles;VALUE=DATE-TIME:20260512T200000
DTSTAMP;VALUE=DATE-TIME:20260422T183950Z
UID:a270f944a28a483893be7cbaf0e73904@localhost:6081
CONTACT:https://www.thirdplacebooks.com/event/craig-romano-tami-asars
CREATED;VALUE=DATE-TIME:20260402T154608Z
LAST-MODIFIED;VALUE=DATE-TIME:20260402T155524Z
LOCATION:Third Place Books\, Lake Forest Park
URL:https://ncascades.org/signup/spring-hiking-double-feature-with-tami-as
 ars-and-craig-romano
END:VEVENT
BEGIN:VTIMEZONE
TZID:America/Los_Angeles
X-LIC-LOCATION:America/Los_Angeles
BEGIN:DAYLIGHT
DTSTART;VALUE=DATE-TIME:20260308T030000
TZNAME:PDT
TZOFFSETFROM:-0800
TZOFFSETTO:-0700
END:DAYLIGHT
END:VTIMEZONE
END:VCALENDAR
