BEGIN:VCALENDAR
PRODID:-//Dexterity Types//Event//EN
VERSION:1.0
BEGIN:VEVENT
DTSTART:20260514T010000Z
DTEND:20260514T020000Z
DCREATED:20260402T155847Z
UID:ATEvent-f694b17bbd9c443080cb73491a289bb6
SEQUENCE:0
LAST-MODIFIED:20260402T160525Z
SUMMARY:Spring Hiking Double Feature with Tami Asars and Craig Romano
LOCATION:Village Books\, Fairhaven
PRIORITY:3
TRANSP:0
END:VEVENT
END:VCALENDAR
