BEGIN:VCALENDAR
VERSION:2.0
PRODID:-//Plone.org//NONSGML plone.app.event//EN
X-WR-TIMEZONE:America/Los_Angeles
BEGIN:VEVENT
SUMMARY:Spring Hiking Double Feature with Tami Asars and Craig Romano
DTSTART;TZID=America/Los_Angeles;VALUE=DATE-TIME:20260513T180000
DTEND;TZID=America/Los_Angeles;VALUE=DATE-TIME:20260513T190000
DTSTAMP;VALUE=DATE-TIME:20260422T204600Z
UID:f694b17bbd9c443080cb73491a289bb6@localhost:6081
CONTACT:https://www.villagebooks.com/events/4702920260513
CREATED;VALUE=DATE-TIME:20260402T155847Z
LAST-MODIFIED;VALUE=DATE-TIME:20260402T160525Z
LOCATION:Village Books\, Fairhaven
URL:https://ncascades.org/signup/spring-hiking-double-feature-with-tami-as
 ars-and-craig-romano-1
END:VEVENT
BEGIN:VTIMEZONE
TZID:America/Los_Angeles
X-LIC-LOCATION:America/Los_Angeles
BEGIN:DAYLIGHT
DTSTART;VALUE=DATE-TIME:20260308T030000
TZNAME:PDT
TZOFFSETFROM:-0800
TZOFFSETTO:-0700
END:DAYLIGHT
END:VTIMEZONE
END:VCALENDAR
