BEGIN:VCALENDAR
PRODID:-//Dexterity Types//Event//EN
VERSION:1.0
BEGIN:VEVENT
DTSTART:20260905T163000Z
DTEND:20260906T003000Z
DCREATED:20260410T164508Z
UID:ATEvent-8abcd15c4e0849b282791ed5f919596f
SEQUENCE:0
LAST-MODIFIED:20260425T002007Z
SUMMARY:Wild and Fire: Illustrating Poetry about our Dynamic Landscapes
PRIORITY:3
TRANSP:0
END:VEVENT
END:VCALENDAR
