BEGIN:VCALENDAR
VERSION:2.0
PRODID:-//Plone.org//NONSGML plone.app.event//EN
X-WR-TIMEZONE:America/Los_Angeles
BEGIN:VEVENT
SUMMARY:Wild and Fire: Illustrating Poetry about our Dynamic Landscapes
DTSTART;VALUE=DATE:20260905
DTEND;VALUE=DATE:20260906
DTSTAMP;VALUE=DATE-TIME:20260424T171828Z
UID:8abcd15c4e0849b282791ed5f919596f@localhost:6081
CREATED;VALUE=DATE-TIME:20260410T164508Z
LAST-MODIFIED;VALUE=DATE-TIME:20260425T001007Z
URL:https://ncascades.org/signup/programs/wild-and-fire-illustrating-poetr
 y-about-our-dynamic-landscapes
END:VEVENT
END:VCALENDAR
