BEGIN:VCALENDAR
PRODID:-//Dexterity Types//Event//EN
VERSION:1.0
BEGIN:VEVENT
DTSTART:20261114T170000Z
DTEND:20261115T000000Z
DCREATED:20260410T202802Z
UID:ATEvent-d1e00887e0bf4a2181c62bf1722e222f
SEQUENCE:0
LAST-MODIFIED:20260424T202007Z
SUMMARY:Introduction to Tracking
PRIORITY:3
TRANSP:0
END:VEVENT
END:VCALENDAR
