BEGIN:VCALENDAR
VERSION:2.0
PRODID:-//Plone.org//NONSGML plone.app.event//EN
X-WR-TIMEZONE:America/Los_Angeles
BEGIN:VEVENT
SUMMARY:Introduction to Tracking
DTSTART;VALUE=DATE:20261114
DTEND;VALUE=DATE:20261115
DTSTAMP;VALUE=DATE-TIME:20260424T132923Z
UID:d1e00887e0bf4a2181c62bf1722e222f@localhost:6081
CREATED;VALUE=DATE-TIME:20260410T202802Z
LAST-MODIFIED;VALUE=DATE-TIME:20260424T202007Z
URL:https://ncascades.org/signup/programs/introduction-to-tracking
END:VEVENT
END:VCALENDAR
