BEGIN:VCALENDAR
PRODID:-//Dexterity Types//Event//EN
VERSION:1.0
BEGIN:VEVENT
DTSTART:20260912T200000Z
DTEND:20260912T230000Z
DCREATED:20260406T181119Z
UID:ATEvent-71e48f6f96b84fb9a92bdda33acdae0c
SEQUENCE:0
LAST-MODIFIED:20260423T012007Z
SUMMARY:Forest Bathing: A Mindful Connection to Nature (PM)
PRIORITY:3
TRANSP:0
END:VEVENT
END:VCALENDAR
