BEGIN:VCALENDAR
PRODID:-//Dexterity Types//Event//EN
VERSION:1.0
BEGIN:VEVENT
DTSTART:20260912T160000Z
DTEND:20260912T190000Z
DCREATED:20260406T181056Z
UID:ATEvent-1b64e16fd58148f1b69826912a631128
SEQUENCE:0
LAST-MODIFIED:20260423T014007Z
SUMMARY:Forest Bathing: A Mindful Connection to Nature (AM)
PRIORITY:3
TRANSP:0
END:VEVENT
END:VCALENDAR
