BEGIN:VCALENDAR
VERSION:2.0
PRODID:-//Plone.org//NONSGML plone.app.event//EN
X-WR-TIMEZONE:America/Los_Angeles
BEGIN:VEVENT
SUMMARY:Forest Bathing: A Mindful Connection to Nature (AM)
DTSTART;VALUE=DATE:20260912
DTEND;VALUE=DATE:20260913
DTSTAMP;VALUE=DATE-TIME:20260422T183950Z
UID:1b64e16fd58148f1b69826912a631128@localhost:6081
CREATED;VALUE=DATE-TIME:20260406T181056Z
LAST-MODIFIED;VALUE=DATE-TIME:20260423T013006Z
URL:https://ncascades.org/signup/programs/forest-bathing-a-mindful-connect
 ion-to-nature-am
END:VEVENT
END:VCALENDAR
