BEGIN:VCALENDAR
PRODID:-//Dexterity Types//Event//EN
VERSION:1.0
BEGIN:VEVENT
DTSTART:20260710T180000Z
DTEND:20260712T200000Z
DCREATED:20251017T221303Z
UID:ATEvent-04bb7b35fe924982a57259929e0e11dd
SEQUENCE:0
LAST-MODIFIED:20260421T123002Z
SUMMARY:Family Getaway - Mid July 2026
PRIORITY:3
TRANSP:0
END:VEVENT
END:VCALENDAR
