BEGIN:VCALENDAR
VERSION:2.0
PRODID:-//Plone.org//NONSGML plone.app.event//EN
X-WR-TIMEZONE:America/Los_Angeles
BEGIN:VEVENT
SUMMARY:Family Getaway - Mid July 2026
DTSTART;VALUE=DATE:20260710
DTEND;VALUE=DATE:20260711
DTSTAMP;VALUE=DATE-TIME:20260421T053416Z
UID:04bb7b35fe924982a57259929e0e11dd@localhost:6081
CREATED;VALUE=DATE-TIME:20251017T221303Z
LAST-MODIFIED;VALUE=DATE-TIME:20260421T123002Z
URL:https://ncascades.org/signup/programs/family-getaway-mid-july-2026
END:VEVENT
END:VCALENDAR
