BEGIN:VCALENDAR
PRODID:-//Dexterity Types//Event//EN
VERSION:1.0
BEGIN:VEVENT
DTSTART:20260814T180000Z
DTEND:20260816T200000Z
DCREATED:20251017T221824Z
UID:ATEvent-9ea2e3ac6cc64eeba8112aad416a534d
SEQUENCE:0
LAST-MODIFIED:20260421T061003Z
SUMMARY:Family Getaway - Mid August 2026
PRIORITY:3
TRANSP:0
END:VEVENT
END:VCALENDAR
