BEGIN:VCALENDAR
VERSION:2.0
PRODID:-//Plone.org//NONSGML plone.app.event//EN
X-WR-TIMEZONE:America/Los_Angeles
BEGIN:VEVENT
SUMMARY:Family Getaway - Mid August 2026
DTSTART;VALUE=DATE:20260814
DTEND;VALUE=DATE:20260815
DTSTAMP;VALUE=DATE-TIME:20260420T231902Z
UID:9ea2e3ac6cc64eeba8112aad416a534d@localhost:6081
CREATED;VALUE=DATE-TIME:20251017T221824Z
LAST-MODIFIED;VALUE=DATE-TIME:20260421T061003Z
URL:https://ncascades.org/signup/programs/family-getaway-mid-august-2026
END:VEVENT
END:VCALENDAR
