BEGIN:VCALENDAR
PRODID:-//Dexterity Types//Event//EN
VERSION:1.0
BEGIN:VEVENT
DTSTART:20260724T180000Z
DTEND:20260726T200000Z
DCREATED:20251017T221402Z
UID:ATEvent-52956c7d6c8244e88275b2215393afa8
SEQUENCE:0
LAST-MODIFIED:20260421T121003Z
SUMMARY:Family Getaway - Late July 2026
PRIORITY:3
TRANSP:0
END:VEVENT
END:VCALENDAR
