BEGIN:VCALENDAR
VERSION:2.0
PRODID:-//Plone.org//NONSGML plone.app.event//EN
X-WR-TIMEZONE:America/Los_Angeles
BEGIN:VEVENT
SUMMARY:Family Getaway - Late July 2026
DTSTART;VALUE=DATE:20260724
DTEND;VALUE=DATE:20260725
DTSTAMP;VALUE=DATE-TIME:20260421T051644Z
UID:52956c7d6c8244e88275b2215393afa8@localhost:6081
CREATED;VALUE=DATE-TIME:20251017T221402Z
LAST-MODIFIED;VALUE=DATE-TIME:20260421T121003Z
URL:https://ncascades.org/signup/programs/family-getaway-late-july-2026
END:VEVENT
END:VCALENDAR
