BEGIN:VCALENDAR
PRODID:-//Dexterity Types//Event//EN
VERSION:1.0
BEGIN:VEVENT
DTSTART:20260703T180000Z
DTEND:20260705T200000Z
DCREATED:20251017T221143Z
UID:ATEvent-36ad613a87694466807829dfb2977fb0
SEQUENCE:0
LAST-MODIFIED:20260421T093002Z
SUMMARY:Family Getaway - Early July 2026
PRIORITY:3
TRANSP:0
END:VEVENT
END:VCALENDAR
