BEGIN:VCALENDAR
VERSION:2.0
PRODID:-//Plone.org//NONSGML plone.app.event//EN
X-WR-TIMEZONE:America/Los_Angeles
BEGIN:VEVENT
SUMMARY:Family Getaway - Early July 2026
DTSTART;VALUE=DATE:20260703
DTEND;VALUE=DATE:20260704
DTSTAMP;VALUE=DATE-TIME:20260421T022131Z
UID:36ad613a87694466807829dfb2977fb0@localhost:6081
CREATED;VALUE=DATE-TIME:20251017T221143Z
LAST-MODIFIED;VALUE=DATE-TIME:20260421T092003Z
URL:https://ncascades.org/signup/programs/family-getaway-early-july-2026
END:VEVENT
END:VCALENDAR
