BEGIN:VCALENDAR
PRODID:-//Dexterity Types//Event//EN
VERSION:1.0
BEGIN:VEVENT
DTSTART:20260807T180000Z
DTEND:20260809T200000Z
DCREATED:20251017T221612Z
UID:ATEvent-3b6f8697d2884c2181e0f3d302b5876d
SEQUENCE:0
LAST-MODIFIED:20260421T074002Z
SUMMARY:Family Getaway - Early August 2026
PRIORITY:3
TRANSP:0
END:VEVENT
END:VCALENDAR
