BEGIN:VCALENDAR
VERSION:2.0
PRODID:-//Plone.org//NONSGML plone.app.event//EN
X-WR-TIMEZONE:America/Los_Angeles
BEGIN:VEVENT
SUMMARY:Family Getaway - Early August 2026
DTSTART;VALUE=DATE:20260807
DTEND;VALUE=DATE:20260808
DTSTAMP;VALUE=DATE-TIME:20260421T004011Z
UID:3b6f8697d2884c2181e0f3d302b5876d@localhost:6081
CREATED;VALUE=DATE-TIME:20251017T221612Z
LAST-MODIFIED;VALUE=DATE-TIME:20260421T074002Z
URL:https://ncascades.org/signup/programs/family-getaway-early-august-2026
END:VEVENT
END:VCALENDAR
