BEGIN:VCALENDAR
PRODID:-//Dexterity Types//Event//EN
VERSION:1.0
BEGIN:VEVENT
DTSTART:20261031T163000Z
DTEND:20261031T233000Z
DCREATED:20260320T182746Z
UID:ATEvent-f6189fd42f3f4622809be315444b2e72
SEQUENCE:0
LAST-MODIFIED:20260422T190007Z
SUMMARY:Baker Lake Fungal Foray
PRIORITY:3
TRANSP:0
END:VEVENT
END:VCALENDAR
