BEGIN:VCALENDAR
VERSION:2.0
PRODID:-//Plone.org//NONSGML plone.app.event//EN
X-WR-TIMEZONE:America/Los_Angeles
BEGIN:VEVENT
SUMMARY:Baker Lake Fungal Foray
DTSTART;VALUE=DATE:20261031
DTEND;VALUE=DATE:20261101
DTSTAMP;VALUE=DATE-TIME:20260422T121144Z
UID:f6189fd42f3f4622809be315444b2e72@localhost:6081
CREATED;VALUE=DATE-TIME:20260320T182746Z
LAST-MODIFIED;VALUE=DATE-TIME:20260422T191007Z
URL:https://ncascades.org/signup/programs/baker-lake-fungal-foray
END:VEVENT
END:VCALENDAR
