BEGIN:VCALENDAR
PRODID:-//Dexterity Types//Event//EN
VERSION:1.0
BEGIN:VEVENT
DTSTART:20260428T000000Z
DTEND:20260428T040000Z
DCREATED:20260402T151019Z
UID:ATEvent-8e9b9a48551d4fdb930847456ec55d02
SEQUENCE:0
LAST-MODIFIED:20260422T202108Z
SUMMARY:North Cascades Trivia and Pint Night Fundraiser
LOCATION:Stones Throw Brewery\, Fairhaven
PRIORITY:3
TRANSP:0
END:VEVENT
END:VCALENDAR
