BEGIN:VCALENDAR
PRODID:-//Dexterity Types//Event//EN
VERSION:1.0
BEGIN:VEVENT
DTSTART:20260228T030000Z
DTEND:20260301T030000Z
DCREATED:20260126T214903Z
UID:ATEvent-5a6621d93bd3419d8252813d3ea0e40b
SEQUENCE:0
LAST-MODIFIED:20260126T214913Z
SUMMARY:Banff Mountain Film Fest World Tour
LOCATION:Historic Everett Theater
PRIORITY:3
TRANSP:0
END:VEVENT
END:VCALENDAR
