BEGIN:VCALENDAR
VERSION:2.0
PRODID:-//Plone.org//NONSGML plone.app.event//EN
X-WR-TIMEZONE:America/Los_Angeles
BEGIN:VEVENT
SUMMARY:Banff Mountain Film Fest World Tour
DTSTART;TZID=America/Los_Angeles;VALUE=DATE-TIME:20260227T190000
DTEND;TZID=America/Los_Angeles;VALUE=DATE-TIME:20260228T190000
DTSTAMP;VALUE=DATE-TIME:20260423T073916Z
UID:5a6621d93bd3419d8252813d3ea0e40b@localhost:6081
CONTACT:https://www.livetoplay.com/banffeverett
CREATED;VALUE=DATE-TIME:20260126T214903Z
LAST-MODIFIED;VALUE=DATE-TIME:20260126T214913Z
LOCATION:Historic Everett Theater
URL:https://ncascades.org/signup/banff-mountain-film-fest-world-tour
END:VEVENT
BEGIN:VTIMEZONE
TZID:America/Los_Angeles
X-LIC-LOCATION:America/Los_Angeles
BEGIN:STANDARD
DTSTART;VALUE=DATE-TIME:20251102T010000
TZNAME:PST
TZOFFSETFROM:-0700
TZOFFSETTO:-0800
END:STANDARD
END:VTIMEZONE
END:VCALENDAR
