BEGIN:VCALENDAR
PRODID:-//Dexterity Types//Event//EN
VERSION:1.0
BEGIN:VEVENT
DTSTART:20260820T210000Z
DTEND:20260823T173000Z
DCREATED:20260331T185003Z
UID:ATEvent-0420dd74f21a4199b1a298b36c95f5d7
SEQUENCE:0
LAST-MODIFIED:20260421T042003Z
SUMMARY:FFPERPS 2026 Conference
PRIORITY:3
TRANSP:0
END:VEVENT
END:VCALENDAR
