BEGIN:VCALENDAR
VERSION:2.0
PRODID:-//Plone.org//NONSGML plone.app.event//EN
X-WR-TIMEZONE:America/Los_Angeles
BEGIN:VEVENT
SUMMARY:FFPERPS 2026 Conference
DTSTART;VALUE=DATE:20260820
DTEND;VALUE=DATE:20260821
DTSTAMP;VALUE=DATE-TIME:20260420T211149Z
UID:0420dd74f21a4199b1a298b36c95f5d7@localhost:6081
CREATED;VALUE=DATE-TIME:20260331T185003Z
LAST-MODIFIED;VALUE=DATE-TIME:20260421T041003Z
URL:https://ncascades.org/retreats/ffperps-2026-conference
END:VEVENT
END:VCALENDAR
