BEGIN:VCALENDAR
PRODID:-//Dexterity Types//Event//EN
VERSION:1.0
BEGIN:VEVENT
DTSTART:20230429T230000Z
DTEND:20230430T000000Z
DCREATED:20230306T195409Z
UID:ATEvent-576968fabfd940b08e572daba16327bc
SEQUENCE:0
LAST-MODIFIED:20230306T195453Z
SUMMARY:"Nobody Likes Frogs" for Kids at Village Books
PRIORITY:3
TRANSP:0
END:VEVENT
END:VCALENDAR
