BEGIN:VCALENDAR
PRODID:-//Dexterity Types//Event//EN
VERSION:1.0
BEGIN:VEVENT
DTSTART:20211017T230000Z
DTEND:20211018T000000Z
DCREATED:20210913T175959Z
UID:ATEvent-f26a6659736e45a8b702c3ba4929ee0d
SEQUENCE:0
LAST-MODIFIED:20210913T182542Z
SUMMARY:Nature of Writing: Molly Hashimoto / Mount Rainier National Park—An Artist's Tour
LOCATION:Village Books Readings Gallery
PRIORITY:3
TRANSP:0
END:VEVENT
END:VCALENDAR
