BEGIN:VCALENDAR
VERSION:2.0
PRODID:-//Plone.org//NONSGML plone.app.event//EN
X-WR-TIMEZONE:America/Los_Angeles
BEGIN:VEVENT
SUMMARY:Nature of Writing: Molly Hashimoto / Mount Rainier National Park
 —An Artist's Tour
DTSTART;TZID=America/Los_Angeles;VALUE=DATE-TIME:20211017T160000
DTEND;TZID=America/Los_Angeles;VALUE=DATE-TIME:20211017T170000
DTSTAMP;VALUE=DATE-TIME:20260422T120311Z
UID:f26a6659736e45a8b702c3ba4929ee0d@localhost:6081
CONTACT:https://www.villagebooks.com/event/litlive-molly-hashimoto-101721
CREATED;VALUE=DATE-TIME:20210913T175959Z
LAST-MODIFIED;VALUE=DATE-TIME:20210913T182542Z
LOCATION:Village Books Readings Gallery
URL:https://ncascades.org/nature-of-writing-speaker-event-molly-hashimoto-
 mount-rainier-national-park-an-artists-tour
END:VEVENT
BEGIN:VTIMEZONE
TZID:America/Los_Angeles
X-LIC-LOCATION:America/Los_Angeles
BEGIN:DAYLIGHT
DTSTART;VALUE=DATE-TIME:20210314T030000
TZNAME:PDT
TZOFFSETFROM:-0800
TZOFFSETTO:-0700
END:DAYLIGHT
END:VTIMEZONE
END:VCALENDAR
