BEGIN:VCALENDAR
PRODID:-//Dexterity Types//Event//EN
VERSION:1.0
BEGIN:VEVENT
DTSTART:20230915T020000Z
DTEND:20230915T030000Z
DCREATED:20230814T181100Z
UID:ATEvent-8c85752dde1b4483a13c2d902655e0d2
SEQUENCE:0
LAST-MODIFIED:20230824T170732Z
SUMMARY:"Homewaters: A Human and Natural History of Puget Sound" with David Williams in Bellingham
PRIORITY:3
TRANSP:0
END:VEVENT
END:VCALENDAR
