BEGIN:VCALENDAR
VERSION:2.0
PRODID:-//Plone.org//NONSGML plone.app.event//EN
X-WR-TIMEZONE:America/Los_Angeles
BEGIN:VEVENT
SUMMARY:"Homewaters: A Human and Natural History of Puget Sound" with Davi
 d Williams in Bellingham
DTSTART;TZID=America/Los_Angeles;VALUE=DATE-TIME:20230914T190000
DTEND;TZID=America/Los_Angeles;VALUE=DATE-TIME:20230914T200000
DTSTAMP;VALUE=DATE-TIME:20260422T234946Z
UID:8c85752dde1b4483a13c2d902655e0d2@localhost:6081
CONTACT:https://www.eventbrite.com/e/chuckanut-radio-hour-featuring-david-
 b-williams-homewaters-tickets-678553260067
CREATED;VALUE=DATE-TIME:20230814T181100Z
LAST-MODIFIED;VALUE=DATE-TIME:20230824T170732Z
URL:https://ncascades.org/homewaters-a-human-and-natural-history-of-puget-
 sound-with-david-williams-in-bellingham
END:VEVENT
BEGIN:VTIMEZONE
TZID:America/Los_Angeles
X-LIC-LOCATION:America/Los_Angeles
BEGIN:DAYLIGHT
DTSTART;VALUE=DATE-TIME:20230312T030000
TZNAME:PDT
TZOFFSETFROM:-0800
TZOFFSETTO:-0700
END:DAYLIGHT
END:VTIMEZONE
END:VCALENDAR
