BEGIN:VCALENDAR
PRODID:-//Dexterity Types//Event//EN
VERSION:1.0
BEGIN:VEVENT
DTSTART:20231209T020000Z
DTEND:20231209T030000Z
DCREATED:20230824T225333Z
UID:ATEvent-dc980b1261a148a6b32078d451c09573
SEQUENCE:0
LAST-MODIFIED:20231205T174554Z
SUMMARY:"Hiking Mt. Baker & The North Cascades" with John D'Onofrio at Village Books in Bellingham
LOCATION:Village Books\, Bellingham
PRIORITY:3
TRANSP:0
END:VEVENT
END:VCALENDAR
