BEGIN:VCALENDAR
PRODID:-//Dexterity Types//Event//EN
VERSION:1.0
BEGIN:VEVENT
DTSTART:20230513T230000Z
DTEND:20230514T000000Z
DCREATED:20230306T195844Z
UID:ATEvent-05c6118394ea4454983811d80d252a59
SEQUENCE:0
LAST-MODIFIED:20240509T063634Z
SUMMARY:"Bees Are So Amazing" at Village Books
PRIORITY:3
TRANSP:0
END:VEVENT
END:VCALENDAR
