BEGIN:VCALENDAR
PRODID:-//Dexterity Types//Event//EN
VERSION:1.0
BEGIN:VEVENT
DTSTART:20230408T020000Z
DTEND:20230408T030000Z
DCREATED:20230306T194214Z
UID:ATEvent-4a5878ccc9c84c0db354fc0986d3e3e6
SEQUENCE:0
LAST-MODIFIED:20230306T194220Z
SUMMARY:Abigail Morgan Prout's "Walk Deep: Poems" at Village Books
PRIORITY:3
TRANSP:0
END:VEVENT
END:VCALENDAR
