BEGIN:VCALENDAR
VERSION:2.0
PRODID:-//Plone.org//NONSGML plone.app.event//EN
X-WR-TIMEZONE:America/Los_Angeles
BEGIN:VEVENT
SUMMARY:Abigail Morgan Prout's "Walk Deep: Poems" at Village Books
DTSTART;TZID=America/Los_Angeles;VALUE=DATE-TIME:20230407T190000
DTEND;TZID=America/Los_Angeles;VALUE=DATE-TIME:20230407T200000
DTSTAMP;VALUE=DATE-TIME:20260425T171619Z
UID:4a5878ccc9c84c0db354fc0986d3e3e6@localhost:6081
CONTACT:https://www.villagebooks.com/event
CREATED;VALUE=DATE-TIME:20230306T194214Z
LAST-MODIFIED;VALUE=DATE-TIME:20230306T194220Z
URL:https://ncascades.org/abigail-morgan-prouts-walk-deep-poems-at-village
 -books
END:VEVENT
BEGIN:VTIMEZONE
TZID:America/Los_Angeles
X-LIC-LOCATION:America/Los_Angeles
BEGIN:DAYLIGHT
DTSTART;VALUE=DATE-TIME:20230312T030000
TZNAME:PDT
TZOFFSETFROM:-0800
TZOFFSETTO:-0700
END:DAYLIGHT
END:VTIMEZONE
END:VCALENDAR
